BEGIN:VCALENDAR
VERSION:2.0
PRODID:-//https://www.urretxu.eus///NONSGML kigkonsult.se iCalcreator 2.10.15//
METHOD:PUBLISH
BEGIN:VEVENT
UID:20260424T115036UTC-3618njw54p@https://www.urretxu.eus/
DTSTAMP:20260424T115036Z
DESCRIPTION: \nEgurrean egindako arte lanak\n09:30-13:30/15:00-21:00 astele
 henetik ostiralera10:00-13:30 larunbatetan\n \nAntolatzailea: Txiribi elka
 rtea https://www.urretxu.eus/eu/sustapen-soziokulturala/kultura/kultura-ag
 enda/ekitaldia/20234-txiribiri-taila-elkartearen-erakusketa/
DTSTART:20260501T073000Z
DTEND:20260503T190000Z
LOCATION:Zelai Arizti aretoa (Zumarraga) (Legazpi Kalea\, 7\, 20700 Zumarra
 ga\, Gipuzkoa\, Spain)
SUMMARY:TXIRIBIRI TAILA ELKARTEAREN ERAKUSKETA
URL:https://www.urretxu.eus/eu/sustapen-soziokulturala/kultura/kultura-agen
 da/ekitaldia/20234-txiribiri-taila-elkartearen-erakusketa/
END:VEVENT
END:VCALENDAR
