BEGIN:VCALENDAR
VERSION:2.0
PRODID:-//https://www.urretxu.eus///NONSGML kigkonsult.se iCalcreator 2.10.15//
METHOD:PUBLISH
BEGIN:VEVENT
UID:20260423T012622UTC-7437pSzghs@https://www.urretxu.eus/
DTSTAMP:20260423T012622Z
DESCRIPTION: https://www.urretxu.eus/eu/sustapen-soziokulturala/kultura/kul
 tura-agenda/ekitaldia/20215-munduko-txapelketarako-euskal-pilota-selekzioa
 ren-prestaketa-txapelketa-eskuz/
DTSTART:20260510T090000Z
DTEND:20260510T110000Z
LOCATION:Ederrena Pilotalekua (Urretxu) (San Martin Etxetaldea\, 4\, 20700 
 Urretxu\, Gipuzkoa\, Spain)
SUMMARY:MUNDUKO TXAPELKETARAKO EUSKAL PILOTA SELEKZIOAREN PRESTAKETA TXAPEL
 KETA ESKUZ
URL:https://www.urretxu.eus/eu/sustapen-soziokulturala/kultura/kultura-agen
 da/ekitaldia/20215-munduko-txapelketarako-euskal-pilota-selekzioaren-prest
 aketa-txapelketa-eskuz/
END:VEVENT
END:VCALENDAR
