BEGIN:VCALENDAR
VERSION:2.0
PRODID:-//https://www.urretxu.eus///NONSGML kigkonsult.se iCalcreator 2.10.15//
METHOD:PUBLISH
BEGIN:VEVENT
UID:20260424T115022UTC-5881VKAHrf@https://www.urretxu.eus/
DTSTAMP:20260424T115022Z
DESCRIPTION:Hauxe da landatzeko momentua. Gainera\, azokan erosterakoan lor
 e eta landare zozketan parte hartzeko txartelak opari.\nGogoratu lore sari
 keta ekainaren 15etik 26ra izango dela.\n11:00 TAILERRAK: LORE LEHORREKIN 
 EGINDAKO ESKULAN BITXIAK\n \nAntolatzailea: Urretxuko Udala https://www.ur
 retxu.eus/eu/sustapen-soziokulturala/kultura/kultura-agenda/ekitaldia/2021
 1-20-lore-eta-landare-azoka/
DTSTART:20260503T070000Z
DTEND:20260503T120000Z
LOCATION:Gernikako Arbola plaza (Urretxu) (Gernikako Arbola Plaza\, 20700 U
 rretxu\, Gipuzkoa\, Spain)
SUMMARY:20. LORE ETA LANDARE AZOKA
URL:https://www.urretxu.eus/eu/sustapen-soziokulturala/kultura/kultura-agen
 da/ekitaldia/20211-20-lore-eta-landare-azoka/
END:VEVENT
END:VCALENDAR
