BEGIN:VCALENDAR
VERSION:2.0
PRODID:-//https://www.urretxu.eus///NONSGML kigkonsult.se iCalcreator 2.10.15//
METHOD:PUBLISH
BEGIN:VEVENT
UID:20260420T214212UTC-5615UWKaWu@https://www.urretxu.eus/
DTSTAMP:20260420T214212Z
DESCRIPTION:'MUNDU ZITALAREN KONTRA'\, Lizar Begoña dazlearena\nAntolatzail
 ea: Urretxu eta Zumarragako udalak eta Udal Euskaltegia https://www.urretx
 u.eus/eu/sustapen-soziokulturala/kultura/kultura-agenda/ekitaldia/19782-ir
 akurle-taldea-mundu-zitalaren-kontra/
DTSTART:20250513T170000Z
DTEND:20250513T180000Z
LOCATION:Aizpurunea Kultur Etxea (Urretxu) (Jauregi Kalea\, 19\, 20700 Urre
 txu\, Gipuzkoa\, Spain)
SUMMARY:IRAKURLE TALDEA: 'MUNDU ZITALAREN KONTRA'
URL:https://www.urretxu.eus/eu/sustapen-soziokulturala/kultura/kultura-agen
 da/ekitaldia/19782-irakurle-taldea-mundu-zitalaren-kontra/
END:VEVENT
END:VCALENDAR
