BEGIN:VCALENDAR
VERSION:2.0
PRODID:-//https://www.urretxu.eus///NONSGML kigkonsult.se iCalcreator 2.10.15//
METHOD:PUBLISH
BEGIN:VEVENT
UID:20260421T085650UTC-220808B6xO@https://www.urretxu.eus/
DTSTAMP:20260421T085650Z
DESCRIPTION:\nEgunak eta ordutegia: azaroaren 5etik 28ra\, astearte eta ost
 egunetan\, 18:30 – 20:30\nOrdu kopurua: 16 ordu\n\nANTOLATZAILEA: Argazkia
  Elkartea\n\nBegiralea: Irakasleak: Jesus Mª Etxeberria eta Guillermo Murc
 iego (Argazkia elkartea)\nKuota: 30€\nIzen ematea: Informazioa eta izen-em
 atea kultur etxean\, 943038088\nOharra: Leku mugatuak: gutxienez 8 / gehie
 nez 12\n\n https://www.urretxu.eus/eu/sustapen-soziokulturala/kultura/kult
 ura-agenda/ekitaldia/19685-oinarrizko-argazki-ikastaroa-atera-ahalik-eta-e
 tekin-handiena-zure-argazki-kamerari/
DTSTART:20241112T173000Z
DTEND:20241112T193000Z
LOCATION:Aizpurunea Kultur Etxea (Urretxu) (Jauregi Kalea\, 19\, 20700 Urre
 txu\, Gipuzkoa\, Spain)
SUMMARY:OINARRIZKO ARGAZKI IKASTAROA: atera ahalik eta etekin handiena zure
  argazki kamerari
URL:https://www.urretxu.eus/eu/sustapen-soziokulturala/kultura/kultura-agen
 da/ekitaldia/19685-oinarrizko-argazki-ikastaroa-atera-ahalik-eta-etekin-ha
 ndiena-zure-argazki-kamerari/
END:VEVENT
END:VCALENDAR
