BEGIN:VCALENDAR
VERSION:2.0
PRODID:-//https://www.urretxu.eus///NONSGML kigkonsult.se iCalcreator 2.10.15//
METHOD:PUBLISH
BEGIN:VEVENT
UID:20260422T113604UTC-2630fcTAmc@https://www.urretxu.eus/
DTSTAMP:20260422T113604Z
DESCRIPTION:\n100 partaide inguru\n\nANTOLATZAILEA: Urretxuko Udala\n\n  ht
 tps://www.urretxu.eus/eu/sustapen-soziokulturala/kultura/kultura-agenda/ek
 italdia/19646-bolillo-erakustaldia-eta-topaketa/
DTSTART:20240914T080000Z
DTEND:20240914T100000Z
LOCATION:Gernikako Arbola plaza (Urretxu) (Gernikako Arbola Plaza\, 20700 U
 rretxu\, Gipuzkoa\, Spain)
SUMMARY:BOLILLO ERAKUSTALDIA ETA TOPAKETA 
URL:https://www.urretxu.eus/eu/sustapen-soziokulturala/kultura/kultura-agen
 da/ekitaldia/19646-bolillo-erakustaldia-eta-topaketa/
END:VEVENT
END:VCALENDAR
