BEGIN:VCALENDAR
VERSION:2.0
PRODID:-//https://www.urretxu.eus///NONSGML kigkonsult.se iCalcreator 2.10.15//
METHOD:PUBLISH
BEGIN:VEVENT
UID:20260422T043039UTC-3978JXbwKU@https://www.urretxu.eus/
DTSTAMP:20260422T043039Z
DESCRIPTION:URRIAREN 2tik ABENDUAREN 18ra asteazkenetan 18:30 – 20:30 izang
 o den\nANTOLATZAILEA: Urretxuko Udala\n\nBegiralea: Aitor Etxeberria\nKuot
 a: 16 euro hileko\nIzen ematea: Irailaren 14tik aurrera\, astelehenetik os
 tiralera. Orduak: 10:00 – 14:00 / 17:00 – 20:00\n\n https://www.urretxu.eu
 s/eu/sustapen-soziokulturala/kultura/kultura-agenda/ekitaldia/19632-pintur
 a-eta-marrazketa/
DTSTART:20241016T163000Z
DTEND:20241016T183000Z
LOCATION:Aizpurunea Kultur Etxea (Urretxu) (Jauregi Kalea\, 19\, 20700 Urre
 txu\, Gipuzkoa\, Spain)
SUMMARY:PINTURA ETA MARRAZKETA
URL:https://www.urretxu.eus/eu/sustapen-soziokulturala/kultura/kultura-agen
 da/ekitaldia/19632-pintura-eta-marrazketa/
END:VEVENT
END:VCALENDAR
