BEGIN:VCALENDAR
VERSION:2.0
PRODID:-//https://www.urretxu.eus///NONSGML kigkonsult.se iCalcreator 2.10.15//
METHOD:PUBLISH
BEGIN:VEVENT
UID:20260420T030421UTC-80216cUBs1@https://www.urretxu.eus/
DTSTAMP:20260420T030421Z
DESCRIPTION:LIBURUEN PARKEA - Urtero bezala\, liburutegiaren zati bat kaler
 a aterako da. Terraza literarioa bere aurrean.\nAntolatzailea: Urretxuko U
 dala https://www.urretxu.eus/eu/sustapen-soziokulturala/kultura/kultura-ag
 enda/ekitaldia/19592-udako-liburutegia-interesgunea-udara/
DTSTART:20240709T080000Z
DTEND:20240719T100000Z
LOCATION:Urretxuko Liburutegia (Jauregi Kalea\, 21\, 20700 Urretxu\, Gipuzk
 oa\, Spain)
SUMMARY:UDAKO LIBURUTEGIA - INTERESGUNEA: Udara
URL:https://www.urretxu.eus/eu/sustapen-soziokulturala/kultura/kultura-agen
 da/ekitaldia/19592-udako-liburutegia-interesgunea-udara/
END:VEVENT
END:VCALENDAR
