BEGIN:VCALENDAR
VERSION:2.0
PRODID:-//https://www.urretxu.eus///NONSGML kigkonsult.se iCalcreator 2.10.15//
METHOD:PUBLISH
BEGIN:VEVENT
UID:20260421T220157UTC-82541LH2KM@https://www.urretxu.eus/
DTSTAMP:20260421T220157Z
DESCRIPTION:'NESKA aurrera doa bidean\, bere atearekin\, izan zen bizitza e
 raikitzen duten oroitzapenez betetako ate-etxearekin. Berriro bizi nahiko 
 lukeen bizitza\, oraintxe bertan balitz bezala. Mendiak eta hiriak ibiltze
 n ditu\, ibaiak eta basamortuak zeharkatu\, itsasoaren barrenean galdu. Ga
 ur\, ordea\, zain dago atearen bestaldean. Egun berezia du. Bere urtebetet
 ze eguna. Atea jo dute?'. Testu gabea. Gorputzaren mugimenduan eta musikar
 en dramaturgian oinarritua\nANTOLATZAILEA: Urretxu eta Zumarragako udalak
 \n\nSarrera: 5€\nBonoa: 7 saio: haurra+laguntzailea = 30 €\, bonua haurra:
  20 €\n\n https://www.urretxu.eus/eu/sustapen-soziokulturala/kultura/kultu
 ra-agenda/ekitaldia/19285-hika-atearen-bestaldean/
DTSTART:20241020T150000Z
DTEND:20241020T160000Z
LOCATION:Labeaga Aretoa (Urretxu) (Labeaga Kalea\, 20\, 20700 Urretxu\, Gip
 uzkoa\, Spain)
SUMMARY:HIKA\, Atearen bestaldean 
URL:https://www.urretxu.eus/eu/sustapen-soziokulturala/kultura/kultura-agen
 da/ekitaldia/19285-hika-atearen-bestaldean/
END:VEVENT
END:VCALENDAR
