BEGIN:VCALENDAR
VERSION:2.0
PRODID:-//https://www.urretxu.eus///NONSGML kigkonsult.se iCalcreator 2.10.15//
METHOD:PUBLISH
BEGIN:VEVENT
UID:20260420T121648UTC-5733Eovjjs@https://www.urretxu.eus/
DTSTAMP:20260420T121648Z
DESCRIPTION:Ipuin saiorako gonbidapenak jasotzea: azaroaren 6tik 20ra libur
 utegian\nAdina: 6 urtetik gora (1.LH)\nAntolatzailea: Urretxuko Udala http
 s://www.urretxu.eus/eu/sustapen-soziokulturala/kultura/kultura-agenda/ekit
 aldia/19130-interesgunea-literatura-fantastikoa-eta-magia-gau-beltza-ipuin
 saioa/
DTSTART:20231121T160000Z
DTEND:20231121T170000Z
LOCATION:Urretxuko Liburutegia (Jauregi Kalea\, 21\, 20700 Urretxu\, Gipuzk
 oa\, Spain)
SUMMARY:INTERESGUNEA: Literatura fantastikoa eta magia - “Gau beltza” IPUIN
 SAIOA
URL:https://www.urretxu.eus/eu/sustapen-soziokulturala/kultura/kultura-agen
 da/ekitaldia/19130-interesgunea-literatura-fantastikoa-eta-magia-gau-beltz
 a-ipuinsaioa/
END:VEVENT
END:VCALENDAR
