BEGIN:VCALENDAR
VERSION:2.0
PRODID:-//https://www.urretxu.eus///NONSGML kigkonsult.se iCalcreator 2.10.15//
METHOD:PUBLISH
BEGIN:VEVENT
UID:20260422T165536UTC-2638u4dNRU@https://www.urretxu.eus/
DTSTAMP:20260422T165536Z
DESCRIPTION:ORDUA: 17:30 – 20:30 asteartetik igandera\nMartxoaren 26ra arte
 \nANTOLATZAILEA: Urretxuko Udala\n\n  https://www.urretxu.eus/eu/sustapen-
 soziokulturala/kultura/kultura-agenda/ekitaldia/18844-ma-jesus-asurmendi-z
 irrara-erakusketa/
DTSTART:20230310T163000Z
DTEND:20230326T183000Z
LOCATION:Juan de Lizarazu Erakusketa Aretoa (Urretxu) (Labeaga Kalea\, 27\,
  20700 Urretxu\, Gipuzkoa\, Spain)
SUMMARY:Mª JESUS ASURMENDI “ZIRRARA” ERAKUSKETA
URL:https://www.urretxu.eus/eu/sustapen-soziokulturala/kultura/kultura-agen
 da/ekitaldia/18844-ma-jesus-asurmendi-zirrara-erakusketa/
END:VEVENT
END:VCALENDAR
