BEGIN:VCALENDAR
VERSION:2.0
PRODID:-//https://www.urretxu.eus///NONSGML kigkonsult.se iCalcreator 2.10.15//
METHOD:PUBLISH
BEGIN:VEVENT
UID:20260419T224921UTC-3881xx5CTo@https://www.urretxu.eus/
DTSTAMP:20260419T224921Z
DESCRIPTION:SANTA LUTZI FERIA\nTokiak: Euskadi plaza (Zumarraga) eta Gernik
 ako Arbola plaza (Urretxu)\nANTOLATZAILEA: Urrretxu eta Zumarragako udalak
 \n\n  https://www.urretxu.eus/eu/sustapen-soziokulturala/kultura/kultura-a
 genda/ekitaldia/18697-azoka-bereziak/
DTSTART:20221213T080000Z
DTEND:20221213T130000Z
LOCATION:Urretxu eta Zumarraga (Casa de Ipeñarreta\, Iparragirre Kalea\, 20
 \, 20700 Urretxu\, Guipúzcoa\, Spain)
SUMMARY:AZOKA BEREZIAK
URL:https://www.urretxu.eus/eu/sustapen-soziokulturala/kultura/kultura-agen
 da/ekitaldia/18697-azoka-bereziak/
END:VEVENT
END:VCALENDAR
