BEGIN:VCALENDAR
VERSION:2.0
PRODID:-//https://www.urretxu.eus///NONSGML kigkonsult.se iCalcreator 2.10.15//
METHOD:PUBLISH
BEGIN:VEVENT
UID:20260423T051023UTC-4100N0IecA@https://www.urretxu.eus/
DTSTAMP:20260423T051023Z
DESCRIPTION:EGUNA: azaroak 29 arte\nORDUA: 20:00\nTOKIA: Zelai Arizti kultu
 r etxea (Zumarraga). Aizpurunea kultur etxea (Urretxu)\nANTOLATZAILEA: Urr
 etxu eta Zumarragako udalak\n\n  https://www.urretxu.eus/eu/sustapen-sozio
 kulturala/kultura/kultura-agenda/ekitaldia/18280-haurrentzako-gabonetako-k
 risma-eta-ipuin-lehiaketak/
DTSTART;VALUE=DATE:20221125
LOCATION:Zelai Arizti kultur etxea (Zumarraga) (Legazpi Kalea\, 7\, 20700 Z
 umarraga\, Gipuzkoa\, Spain)
SUMMARY:HAURRENTZAKO GABONETAKO KRISMA ETA IPUIN LEHIAKETAK
URL:https://www.urretxu.eus/eu/sustapen-soziokulturala/kultura/kultura-agen
 da/ekitaldia/18280-haurrentzako-gabonetako-krisma-eta-ipuin-lehiaketak/
END:VEVENT
END:VCALENDAR
