BEGIN:VCALENDAR
VERSION:2.0
PRODID:-//https://www.urretxu.eus///NONSGML kigkonsult.se iCalcreator 2.10.15//
METHOD:PUBLISH
BEGIN:VEVENT
UID:20260423T073141UTC-56932Pmv0b@https://www.urretxu.eus/
DTSTAMP:20260423T073141Z
DESCRIPTION:Oinarriak Urretxu eta Zumarragako udalen web orrietan Antolatza
 ilea: Urretxu eta Zumarragako udalak https://www.urretxu.eus/eu/sustapen-s
 oziokulturala/kultura/kultura-agenda/ekitaldia/18156-urretxu-zumarragako-p
 intura-lehiaketaren-amaiera/
DTSTART;VALUE=DATE:20221014
LOCATION:Aizpurunea Kultur Etxea (Urretxu) (Jauregi Kalea\, 19\, 20700 Urre
 txu\, Gipuzkoa\, Spain)
SUMMARY:URRETXU-ZUMARRAGAKO PINTURA LEHIAKETAREN AMAIERA
URL:https://www.urretxu.eus/eu/sustapen-soziokulturala/kultura/kultura-agen
 da/ekitaldia/18156-urretxu-zumarragako-pintura-lehiaketaren-amaiera/
END:VEVENT
END:VCALENDAR
