BEGIN:VCALENDAR
VERSION:2.0
PRODID:-//https://www.urretxu.eus///NONSGML kigkonsult.se iCalcreator 2.10.15//
METHOD:PUBLISH
BEGIN:VEVENT
UID:20260419T223131UTC-4026OMmVId@https://www.urretxu.eus/
DTSTAMP:20260419T223131Z
DESCRIPTION:EGUNA: 26 – 30\, astelehenetik ostiralera\nORDUA: 17:00 – 20:00
 \n'KUI\, KUI'\, Pirritx\, Porrotx eta Marimotots SARRERA SALMENTA pailazoe
 n ikuskizunerako\, urriaren 2rako (16:30 eta 18:30)\nAizpurunea kultur etx
 ean: Irailak 26 – 30\, 17:00 – 20:00\nEderrena pilotalekuko leihatilan: Ur
 riak 1\, 11:00 – 13:30 | Urriak 2\, 11:00 - 13:30 eta 15:30 – 16:00\nTOKIA
 : Aizpurunea kultur etxea eta Ederrena pilotalekua (Urretxu)\nANTOLATZAILE
 A: Urretxu eta Zumarragako udalak\n\nADI! 2022ko denboraldiko bonodunek le
 kua gordeta izango dute 16.30etako saioan\nSarrera: 7€\, Sarrerak salgai\,
  agortu arte\n\n https://www.urretxu.eus/eu/sustapen-soziokulturala/kultur
 a/kultura-agenda/ekitaldia/18102-kui-kui-pirritx-porrotx-eta-marimotots-sa
 rrera-salmenta-aizpurunea/
DTSTART:20220926T150000Z
DTEND:20220930T180000Z
LOCATION:Aizpurunea Kultur Etxea (Urretxu) (Jauregi Kalea\, 19\, 20700 Urre
 txu\, Gipuzkoa\, Spain)
SUMMARY:“KUI\, KUI”\, Pirritx\, Porrotx eta Marimotots SARRERA SALMENTA | A
 izpurunea
URL:https://www.urretxu.eus/eu/sustapen-soziokulturala/kultura/kultura-agen
 da/ekitaldia/18102-kui-kui-pirritx-porrotx-eta-marimotots-sarrera-salmenta
 -aizpurunea/
END:VEVENT
END:VCALENDAR
