BEGIN:VCALENDAR
VERSION:2.0
PRODID:-//https://www.urretxu.eus///NONSGML kigkonsult.se iCalcreator 2.10.15//
METHOD:PUBLISH
BEGIN:VEVENT
UID:20260423T205130UTC-5598B374zh@https://www.urretxu.eus/
DTSTAMP:20260423T205130Z
DESCRIPTION:EGUNAK: Iraila\, 1 – 23\nORDUA: 10:00 – 14:00 / 17:00 -20:30 as
 telehenetik ostiralera eta 10:00 – 13:00 larunbatetan\nTOKIA: Aizpurunea k
 ultur etxea (Urretxu)\nANTOLATZAILEA: Urretxuko Udala\n\n  https://www.urr
 etxu.eus/eu/sustapen-soziokulturala/kultura/kultura-agenda/ekitaldia/17911
 -2022ko-urretxuko-santa-anastasia-jaietako-egitarauaren-portada-aukeratzek
 o-lehiaketako-lanen-erakusketa/
DTSTART:20220901T080000Z
DTEND:20220923T180000Z
LOCATION:Aizpurunea Kultur Etxea (Urretxu) (Jauregi Kalea\, 19\, 20700 Urre
 txu\, Gipuzkoa\, Spain)
SUMMARY:2022ko URRETXUKO SANTA ANASTASIA JAIETAKO EGITARAUAREN PORTADA AUKE
 RATZEKO LEHIAKETAKO LANEN ERAKUSKETA
URL:https://www.urretxu.eus/eu/sustapen-soziokulturala/kultura/kultura-agen
 da/ekitaldia/17911-2022ko-urretxuko-santa-anastasia-jaietako-egitarauaren-
 portada-aukeratzeko-lehiaketako-lanen-erakusketa/
END:VEVENT
END:VCALENDAR
