BEGIN:VCALENDAR
VERSION:2.0
PRODID:-//https://www.urretxu.eus///NONSGML kigkonsult.se iCalcreator 2.10.15//
METHOD:PUBLISH
BEGIN:VEVENT
UID:20260419T183515UTC-9541Cag6di@https://www.urretxu.eus/
DTSTAMP:20260419T183515Z
DESCRIPTION:DoanOstirala arratsaldez\, larunbata goiz eta arratsaldezEgural
 di txarrarekin Aldiri kiroldegian\n \nAntolatzailea: Goierri K.E. https://
 www.urretxu.eus/eu/sustapen-soziokulturala/kultura/kultura-agenda/ekitaldi
 a/17743-3-x-3-saski-baloi-txapelketa-herrikoia/
DTSTART:20230616T143000Z
DTEND:20230616T180000Z
LOCATION:Lizeoko zelaia (Urretxu) (Labeaga Kalea\, 25\, 20700 Urretxu\, Gip
 uzkoa\, Spain)
SUMMARY:3 X 3 SASKI BALOI TXAPELKETA HERRIKOIA 
URL:https://www.urretxu.eus/eu/sustapen-soziokulturala/kultura/kultura-agen
 da/ekitaldia/17743-3-x-3-saski-baloi-txapelketa-herrikoia/
END:VEVENT
END:VCALENDAR
