BEGIN:VCALENDAR
VERSION:2.0
PRODID:-//https://www.urretxu.eus///NONSGML kigkonsult.se iCalcreator 2.10.15//
METHOD:PUBLISH
BEGIN:VEVENT
UID:20260421T091756UTC-0039JM3KUK@https://www.urretxu.eus/
DTSTAMP:20260421T091756Z
DESCRIPTION:EGUNA: 12tik 23ra\nORDUA: Egun osoan\nSari banaketa uztailaren 
 14an Zumarragako Zelai Arizti kultur etxean\nTOKIA: Urretxu eta Zumarragak
 o leiho\, balkoi eta baserrien sarrerak\nANTOLATZAILEA: Urretxu eta Zumarr
 agako Udalak\n  https://www.urretxu.eus/eu/sustapen-soziokulturala/kultura
 /kultura-agenda/ekitaldia/17720-urretxu-zumarragako-35-lore-sariketa/
DTSTART;VALUE=DATE:20230612
LOCATION:Urretxu eta Zumarraga (Casa de Ipeñarreta\, Iparragirre Kalea\, 20
 \, 20700 Urretxu\, Guipúzcoa\, Spain)
SUMMARY:URRETXU ZUMARRAGAKO 35. LORE SARIKETA
URL:https://www.urretxu.eus/eu/sustapen-soziokulturala/kultura/kultura-agen
 da/ekitaldia/17720-urretxu-zumarragako-35-lore-sariketa/
END:VEVENT
END:VCALENDAR
