BEGIN:VCALENDAR
VERSION:2.0
PRODID:-//https://www.urretxu.eus///NONSGML kigkonsult.se iCalcreator 2.10.15//
METHOD:PUBLISH
BEGIN:VEVENT
UID:20260421T094408UTC-5624e5uH7b@https://www.urretxu.eus/
DTSTAMP:20260421T094408Z
DESCRIPTION:Antolatzailea: Urretxuko Udala\nPAGOETA UDAL IGERILEKUA\nUdal i
 gerilekua egunero zabalik irailaren 10 arte.\n\nOrdutegia: 11:00 – 20:00\n
 Lekua: Urretxuko Pagoeta udal igerilekua\n \n\n  https://www.urretxu.eus/e
 u/component/rseventspro/ekitaldia/9506-pagoeta-udal-igerilekua/?Itemid=775
DTSTART:20230615T220000Z
DTEND:20230909T220000Z
LOCATION:Pagoeta Udal Igerilekua (Urretxu) (Pagoeta Auz.\, 6\, 20700 Urretx
 u\, Gipuzkoa\, Spain)
SUMMARY:Pagoeta Udal Igerilekua
URL:https://www.urretxu.eus/eu/component/rseventspro/ekitaldia/9506-pagoeta
 -udal-igerilekua/?Itemid=775
END:VEVENT
END:VCALENDAR
