BEGIN:VCALENDAR
VERSION:2.0
PRODID:-//https://www.urretxu.eus///NONSGML kigkonsult.se iCalcreator 2.10.15//
METHOD:PUBLISH
BEGIN:VEVENT
UID:20260419T163710UTC-2201GovOMG@https://www.urretxu.eus/
DTSTAMP:20260419T163710Z
DESCRIPTION:Doan\nOstirala arratsaldez \neguraldi txarrarekin Aldiri kirold
 egian \nAntolatzailea: Goierri K.E. https://www.urretxu.eus/eu/component/r
 seventspro/ekitaldia/9326-3-x-3-saski-baloi-txapelketa-herrikoia/?Itemid=7
 75
DTSTART:20220617T130000Z
DTEND:20220617T180000Z
LOCATION:Gernikako Arbola plaza (Urretxu) (Gernikako Arbola Plaza\, 20700 U
 rretxu\, Gipuzkoa\, Spain)
SUMMARY:3 X 3 SASKI BALOI TXAPELKETA HERRIKOIA 
URL:https://www.urretxu.eus/eu/component/rseventspro/ekitaldia/9326-3-x-3-s
 aski-baloi-txapelketa-herrikoia/?Itemid=775
END:VEVENT
END:VCALENDAR
