BEGIN:VCALENDAR
VERSION:2.0
PRODID:-//https://www.urretxu.eus///NONSGML kigkonsult.se iCalcreator 2.10.15//
METHOD:PUBLISH
BEGIN:VEVENT
UID:20260419T165825UTC-0083DRLhA3@https://www.urretxu.eus/
DTSTAMP:20260419T165825Z
DESCRIPTION:Organiza: Secundino Esnaola Musika Eskola\nColaboran: ayuntamie
 ntos de Urretxu y Zumarraga\nMUSIKA\nDomingo 22\, 13:00\nKONTZERTU PEDAGOG
 IKOA ZUMARRAGAKO MUSIKA BANDAREKIN\n\nLugar: Zelai Arizti aretoa (Zumarrag
 a)\n https://www.urretxu.eus/eu/component/rseventspro/ekitaldia/7999-musik
 a-kontzertu-pedagogikoa-zumarragako-musika-bandarekin-secundino-esnaola-mu
 sika-eskola/?Itemid=775
DTSTART:20180422T110000Z
DTEND:20180422T120000Z
LOCATION:Zelai Arizti aretoa (Zumarraga) (Legazpi Kalea\, 7\, 20700 Zumarra
 ga\, Gipuzkoa\, Spain)
SUMMARY:MUSIKA: Kontzertu Pedagogikoa Zumarragako Musika Bandarekin - Secun
 dino Esnaola Musika Eskola
URL:https://www.urretxu.eus/eu/component/rseventspro/ekitaldia/7999-musika-
 kontzertu-pedagogikoa-zumarragako-musika-bandarekin-secundino-esnaola-musi
 ka-eskola/?Itemid=775
END:VEVENT
END:VCALENDAR
