BEGIN:VCALENDAR
VERSION:2.0
PRODID:-//https://www.urretxu.eus///NONSGML kigkonsult.se iCalcreator 2.10.15//
METHOD:PUBLISH
BEGIN:VEVENT
UID:20260419T150122UTC-1029KsKv6T@https://www.urretxu.eus/
DTSTAMP:20260419T150122Z
DESCRIPTION:Antolatzailea: Secundino Esnaola Musika Eskola\nLaguntzaileak: 
 Urretxu eta Zumarragako udalak\nMUSIKA: SECUNDINO ESNAOLA MUSIKA ESKOLA\nA
 pirilaren 16tik 27ra\nATE IREKIAK / PUERTAS ABIERTAS\n\nEgunak: apirilaren
  16tik 27ra\nLekua: Legazpi dorretxea (Zumarraga)\nInformazioa: 943 72 25 
 93\n https://www.urretxu.eus/eu/component/rseventspro/ekitaldia/7973-musik
 a-secundino-esnaola-musika-eskola-ate-irekiak/?Itemid=775
DTSTART;VALUE=DATE:20180416
LOCATION:Legazpi dorretxea (Zumarraga) (Artiz Auzoa\, s/n\, 20700 Zumarraga
 \, Gipuzkoa\, Spain)
SUMMARY:MUSIKA: Secundino Esnaola Musika Eskola - Ate Irekiak
URL:https://www.urretxu.eus/eu/component/rseventspro/ekitaldia/7973-musika-
 secundino-esnaola-musika-eskola-ate-irekiak/?Itemid=775
END:VEVENT
END:VCALENDAR
