BEGIN:VCALENDAR
VERSION:2.0
PRODID:-//https://www.urretxu.eus///NONSGML kigkonsult.se iCalcreator 2.10.15//
METHOD:PUBLISH
BEGIN:VEVENT
UID:20260419T165244UTC-6468VlL6AW@https://www.urretxu.eus/
DTSTAMP:20260419T165244Z
DESCRIPTION:Organiza: Escuela de Música Secundino Esnaola\nColaboran: ayunt
 amientos de Zumarraga y Urretxu\nMUSIKA - SECUNDINO ESNAOLA MUSIKA ESKOLA
 \nLunes 16\, 19:00\nAUDICIONES: VIOLÍN\n\nLugar: Legazpi dorretxea (Zumarr
 aga)\n https://www.urretxu.eus/eu/component/rseventspro/ekitaldia/7971-mus
 ika-audicion-de-violin-secundino-esnaola-musika-eskola/?Itemid=775
DTSTART:20180416T170000Z
DTEND:20180416T180000Z
LOCATION:Legazpi dorretxea (Zumarraga) (Artiz Auzoa\, s/n\, 20700 Zumarraga
 \, Gipuzkoa\, Spain)
SUMMARY:MUSIKA: Audición de Violín - Secundino Esnaola Musika Eskola
URL:https://www.urretxu.eus/eu/component/rseventspro/ekitaldia/7971-musika-
 audicion-de-violin-secundino-esnaola-musika-eskola/?Itemid=775
END:VEVENT
END:VCALENDAR
