BEGIN:VCALENDAR
VERSION:2.0
PRODID:-//https://www.urretxu.eus///NONSGML kigkonsult.se iCalcreator 2.10.15//
METHOD:PUBLISH
BEGIN:VEVENT
UID:20260421T091325UTC-1757m8gDf9@https://www.urretxu.eus/
DTSTAMP:20260421T091325Z
DESCRIPTION:KALE PINTURA LEHIAKETA Ekainaren 19an.\nOinarriak Urretxu eta Z
 umarragako udalen web orrietan\nAldez aurretik eman behar da izena\, ekain
 aren 11a baino lehenago https://www.urretxu.eus/eu/component/rseventspro/e
 kitaldia/7728-kale-pintura-lehiaketa-2021/?Itemid=1213
DTSTART;VALUE=DATE:20210619
LOCATION:Aizpurunea Kultur Etxea (Urretxu) (Jauregi Kalea\, 19\, 20700 Urre
 txu\, Gipuzkoa\, Spain)
SUMMARY:Kale Pintura Lehiaketa 2021
URL:https://www.urretxu.eus/eu/component/rseventspro/ekitaldia/7728-kale-pi
 ntura-lehiaketa-2021/?Itemid=1213
END:VEVENT
END:VCALENDAR
