BEGIN:VCALENDAR
VERSION:2.0
PRODID:-//https://www.urretxu.eus///NONSGML kigkonsult.se iCalcreator 2.10.15//
METHOD:PUBLISH
BEGIN:VEVENT
UID:20260419T181516UTC-2149mmBMtG@https://www.urretxu.eus/
DTSTAMP:20260419T181516Z
DESCRIPTION:Antolatzaileak: Urretxu eta Zumarragako udalak\nKALE PINTURA LE
 HIAKETA 2018\n\nEguna: ekainak 17\nAurkezpen lekua eta ordua: Urretxuko ud
 aletxeko portaloia\, 9:00 - 10:00\n\nInformazioa eta oinarriak:\n\nOinarri
 ak\nwww.urretxu.eus\nwww.zelaiarizti.eus\n https://www.urretxu.eus/eu/comp
 onent/rseventspro/ekitaldia/7572-kale-pintura-lehiaketa-2018/?Itemid=775
DTSTART;VALUE=DATE:20180501
LOCATION:Udaletxeko Portaloia (Urretxu) (Casa de Ipeñarreta\, Iparragirre K
 alea\, 20\, 20700 Urretxu\, Guipúzcoa\, Zumarraga\, Spain)
SUMMARY:Kale Pintura Lehiaketa 2018
URL:https://www.urretxu.eus/eu/component/rseventspro/ekitaldia/7572-kale-pi
 ntura-lehiaketa-2018/?Itemid=775
END:VEVENT
END:VCALENDAR
