BEGIN:VCALENDAR
VERSION:2.0
PRODID:-//https://www.urretxu.eus///NONSGML kigkonsult.se iCalcreator 2.10.15//
METHOD:PUBLISH
BEGIN:VEVENT
UID:20260419T182217UTC-7163zZ05FE@https://www.urretxu.eus/
DTSTAMP:20260419T182217Z
DESCRIPTION:Antolatzailea: Zumarragako Udala\n2018ko SANTA ISABEL JAIETAKO 
 EGITARAUAREN AZALA AUKERATZEKO LEHIAKETA\nLanen aurkezpena:\n\nEpea: maiat
 zak 10 de mayo\nLekua: Zelai Arizti kultur etxea (Zumarraga)\nOinarriak: w
 ww.zelaiarizti.eus\n\n\nLanak 2018ko maiatzaren 10eko eguerdiko 13:30ak ba
 ino lehen aurkeztu beharko dira\, ondoko helbidean:\nZelai Arizti kultur e
 txea\nLegazpi\, 7\n20700 Zumarraga\n https://www.urretxu.eus/eu/component/
 rseventspro/ekitaldia/7491-2018ko-santa-isabel-jaietako-egitarauaren-azala
 -aukeratzeko-lehiaketa-lanen-aurkezpena/?Itemid=775
DTSTART;VALUE=DATE:20180401
LOCATION:Zelai Arizti kultur etxea (Zumarraga) (Legazpi Kalea\, 7\, 20700 Z
 umarraga\, Gipuzkoa\, Spain)
SUMMARY:2018ko Santa Isabel Jaietako Egitarauaren Azala Aukeratzeko Lehiake
 ta - Lanen aurkezpena
URL:https://www.urretxu.eus/eu/component/rseventspro/ekitaldia/7491-2018ko-
 santa-isabel-jaietako-egitarauaren-azala-aukeratzeko-lehiaketa-lanen-aurke
 zpena/?Itemid=775
END:VEVENT
END:VCALENDAR
