BEGIN:VCALENDAR
VERSION:2.0
PRODID:-//https://www.urretxu.eus///NONSGML kigkonsult.se iCalcreator 2.10.15//
METHOD:PUBLISH
BEGIN:VEVENT
UID:20260419T181622UTC-0903PMXXFS@https://www.urretxu.eus/
DTSTAMP:20260419T181622Z
DESCRIPTION:Organizador: Zumarraga-Urretxuko Bertso Eskola\nPatrocinadores:
  ayuntamientos de Zumarraga y Urretxu\nESKOLARTEKO XXXI. BERTSOPAPER LEHIA
 KETA\nViernes 20\, 15:00\nCeremonia de premiación\n\nLugar: Zelai Arizti a
 retoa (Zumarraga)\n https://www.urretxu.eus/eu/component/rseventspro/ekita
 ldia/7489-eskolarteko-xxxi-bertsopaper-lehiaketa/?Itemid=775
DTSTART:20180420T130000Z
DTEND:20180420T140000Z
LOCATION:Zelai Arizti aretoa (Zumarraga) (Legazpi Kalea\, 7\, 20700 Zumarra
 ga\, Gipuzkoa\, Spain)
SUMMARY:Eskolarteko XXXI. Bertsopaper Lehiaketa
URL:https://www.urretxu.eus/eu/component/rseventspro/ekitaldia/7489-eskolar
 teko-xxxi-bertsopaper-lehiaketa/?Itemid=775
END:VEVENT
END:VCALENDAR
