BEGIN:VCALENDAR
VERSION:2.0
PRODID:-//https://www.urretxu.eus///NONSGML kigkonsult.se iCalcreator 2.10.15//
METHOD:PUBLISH
BEGIN:VEVENT
UID:20260419T182150UTC-1481cDu51V@https://www.urretxu.eus/
DTSTAMP:20260419T182150Z
DESCRIPTION:Organizan: ayuntamientos de Urretxu y Zumarraga\nCine infantil
 \nCORTOMETRAJES DEL FESTIVAL INTERNACIONAL DE CINE INFANTIL Y JUVENIL “ZIN
 ETXIKI”\nDomingo 25\, 17:00\n\nELEFANTE IKUSTEZINA (7’ 25”)\,\nHARRIEN AZP
 IKO ALTXORRAK (22’)\,\nJONAS ETA ITSASOA (11’ 30”)\,\nGENO\, APO MARMARTIA
  (13”)\,\nSEGUNDUTXO (1’ 51”)\,\nGEORGIA ETA DENBORAREN MAKINA (6’ 41”)\n
 \nDuración: 62’49’’\nEdad: a partir de 6 años\n\nIdioma:  euskara\nTicket 
 para el sorteo: 1 euro\nLugar:  Labeaga aretoa (Urretxu)\n https://www.urr
 etxu.eus/eu/component/rseventspro/ekitaldia/6913-cortometrajes-del-festiva
 l-internacional-de-cine-infantil-y-juvenil-zinetxiki/?Itemid=775
DTSTART:20180325T150000Z
DTEND:20180325T160300Z
LOCATION:Labeaga Aretoa (Urretxu) (Labeaga Kalea\, 20\, 20700 Urretxu\, Gip
 uzkoa\, Spain)
SUMMARY:Cortometrajes del Festival Internacional de Cine Infantil y Juvenil
  “Zinetxiki”
URL:https://www.urretxu.eus/eu/component/rseventspro/ekitaldia/6913-cortome
 trajes-del-festival-internacional-de-cine-infantil-y-juvenil-zinetxiki/?It
 emid=775
END:VEVENT
END:VCALENDAR
