BEGIN:VCALENDAR
VERSION:2.0
PRODID:-//https://www.urretxu.eus///NONSGML kigkonsult.se iCalcreator 2.10.15//
METHOD:PUBLISH
BEGIN:VEVENT
UID:20260419T150326UTC-9262ao2djh@https://www.urretxu.eus/
DTSTAMP:20260419T150326Z
DESCRIPTION:Antolatzailea: Secundino Esnaola Musika Eskola\nLaguntzaileak: 
 Zumarraga eta Urretxuko udalak\nMUSIKA - SECUNDINO ESNAOLA MUSIKA ESKOLA\n
 19 astelehena\, 19:00\nENTZUNALDIAK: TXISTUA\n\nLekua: Legazpi dorretxea (
 Zumarraga)\n\n  https://www.urretxu.eus/eu/component/rseventspro/ekitaldia
 /6576-musika-entzunaldia-txistua-secundino-esnaola-musika-eskola/?Itemid=7
 75
DTSTART:20180319T180000Z
DTEND:20180319T190000Z
LOCATION:Legazpi dorretxea (Zumarraga) (Artiz Auzoa\, s/n\, 20700 Zumarraga
 \, Gipuzkoa\, Spain)
SUMMARY:Musika: Entzunaldia - Txistua - Secundino Esnaola Musika Eskola
URL:https://www.urretxu.eus/eu/component/rseventspro/ekitaldia/6576-musika-
 entzunaldia-txistua-secundino-esnaola-musika-eskola/?Itemid=775
END:VEVENT
END:VCALENDAR
