BEGIN:VCALENDAR
VERSION:2.0
PRODID:-//https://www.urretxu.eus///NONSGML kigkonsult.se iCalcreator 2.10.15//
METHOD:PUBLISH
BEGIN:VEVENT
UID:20260419T150420UTC-0287s7Wg2O@https://www.urretxu.eus/
DTSTAMP:20260419T150420Z
DESCRIPTION:Antolatzailea: Secundino Esnaola Musika Eskola\nLaguntzaileak: 
 Zumarraga eta Urretxuko udalak\nMUSIKA - SECUNDINO ESNAOLA MUSIKA ESKOLA\n
 7 asteazkena\, 19:00\nFLAUTAKO ENTZUNALDIA\nLekua: Legazpi dorretxea (Zuma
 rraga)\n  https://www.urretxu.eus/eu/component/rseventspro/ekitaldia/6574-
 musika-piano-eta-txeloko-entzunaldia-secundino-esnaola-musika-eskola/?Item
 id=775
DTSTART:20180207T180000Z
DTEND:20180207T190000Z
LOCATION:Legazpi dorretxea (Zumarraga) (Artiz Auzoa\, s/n\, 20700 Zumarraga
 \, Gipuzkoa\, Spain)
SUMMARY:Musika: Piano eta Txeloko Entzunaldia - Secundino Esnaola Musika Es
 kola
URL:https://www.urretxu.eus/eu/component/rseventspro/ekitaldia/6574-musika-
 piano-eta-txeloko-entzunaldia-secundino-esnaola-musika-eskola/?Itemid=775
END:VEVENT
END:VCALENDAR
