BEGIN:VCALENDAR
VERSION:2.0
PRODID:-//https://www.urretxu.eus///NONSGML kigkonsult.se iCalcreator 2.10.15//
METHOD:PUBLISH
BEGIN:VEVENT
UID:20260419T163711UTC-1536gA3vgG@https://www.urretxu.eus/
DTSTAMP:20260419T163711Z
DESCRIPTION:Antolatzailea: Goierri Kirol Elkartea\n6 larunbata\, 10:30\nGAB
 ON KOPA PILOTA TXAPELKETA\nLekua: Ederrena pilotalekua (Urretxu)\nSarrera 
 doan https://www.urretxu.eus/eu/component/rseventspro/ekitaldia/6455-gabon
 -kopa-pilota-txapelketa-finalak/?Itemid=775
DTSTART:20180106T093000Z
DTEND:20180106T103000Z
LOCATION:Ederrena Pilotalekua (Urretxu) (San Martin Etxetaldea\, 4\, 20700 
 Urretxu\, Gipuzkoa\, Spain)
SUMMARY:Gabon Kopa Pilota Txapelketa: Finalak
URL:https://www.urretxu.eus/eu/component/rseventspro/ekitaldia/6455-gabon-k
 opa-pilota-txapelketa-finalak/?Itemid=775
END:VEVENT
END:VCALENDAR
