BEGIN:VCALENDAR
VERSION:2.0
PRODID:-//https://www.urretxu.eus///NONSGML kigkonsult.se iCalcreator 2.10.15//
METHOD:PUBLISH
BEGIN:VEVENT
UID:20260419T163349UTC-9658h89VUT@https://www.urretxu.eus/
DTSTAMP:20260419T163349Z
DESCRIPTION:Antolatzailea: Goierri Mendi Elkartea\nIRIMORA IGOTZEA\n\nBerta
 n giro goxoa izango da eta baita salda eta txorizoa igotzen direnentzat er
 e.\n https://www.urretxu.eus/eu/component/rseventspro/ekitaldia/6452-irimo
 ra-igotzea/?Itemid=775
DTSTART;VALUE=DATE:20170101
LOCATION:Goierri Kirol elkartea - Mendi Saila (Urretxu) (Labeaga Kalea\, 12
 \, 20700 Urretxu\, Gipuzkoa\, Spain)
SUMMARY:Irimora igotzea
URL:https://www.urretxu.eus/eu/component/rseventspro/ekitaldia/6452-irimora
 -igotzea/?Itemid=775
END:VEVENT
END:VCALENDAR
