BEGIN:VCALENDAR
VERSION:2.0
PRODID:-//https://www.urretxu.eus///NONSGML kigkonsult.se iCalcreator 2.10.15//
METHOD:PUBLISH
BEGIN:VEVENT
UID:20260419T200342UTC-5015A4Fosf@https://www.urretxu.eus/
DTSTAMP:20260419T200342Z
DESCRIPTION:Organizadores: ayuntamientos de Zumarraga y Urretxu\nJueves 21\
 , 13:30\nGABONETAKO ERAKUSLEIHO LEHIAKETA\nENTREGA DE PREMIOS\nLugar: Anti
 o – La Antigua interpretazio zentroa (Zumarraga) https://www.urretxu.eus/e
 u/component/rseventspro/ekitaldia/6164-gabonetako-erakusleiho-lehiaketa-en
 trega-de-premios/?Itemid=775
DTSTART:20171221T123000Z
DTEND:20171221T133000Z
LOCATION:Antioko Interpretazio Zentroa (Zumarraga) (Diseminados Barreiatua\
 , 49\, 20700 Zumarraga\, Gipuzkoa\, Spain)
SUMMARY:Gabonetako Erakusleiho Lehiaketa - Entrega de Premios
URL:https://www.urretxu.eus/eu/component/rseventspro/ekitaldia/6164-gabonet
 ako-erakusleiho-lehiaketa-entrega-de-premios/?Itemid=775
END:VEVENT
END:VCALENDAR
