BEGIN:VCALENDAR
VERSION:2.0
PRODID:-//https://www.urretxu.eus///NONSGML kigkonsult.se iCalcreator 2.10.15//
METHOD:PUBLISH
BEGIN:VEVENT
UID:20260419T150336UTC-6475rA16hp@https://www.urretxu.eus/
DTSTAMP:20260419T150336Z
DESCRIPTION:Antolatzailea: Secundino Esnaola Musika Eskola\nLaguntzaileak: 
 Zumarraga eta Urretxuko udalak\nSECUNDINO ESNAOLA MUSIKA ESKOLAKO IKASLEEN
  EMANALDIAK\n12 asteartea\n\n19:30 KANTOKO ENTZUNALDIA. Lekua: Zelai Arizt
 i kultur etxea (Zumarraga)\n\n21 osteguna\n\n19:00 GABONETAKO KONTZERTUA. 
 Lekua: Labeaga aretoa (Urretxu)\n\n22 ostirala\n\n17:30 MUSIKA HEZKUNTZA G
 OIZTIARREKO KONTZERTUA. Lekua: Legazpi dorretxea (Zumarraga)\n\n  https://
 www.urretxu.eus/eu/component/rseventspro/ekitaldia/5764-gabonetako-kontzer
 tua-secundino-esnaola-musika-eskolako-ikasleen-emanaldiak/?Itemid=775
DTSTART:20171221T180000Z
DTEND:20171221T190000Z
LOCATION:Labeaga Aretoa (Urretxu) (Labeaga Kalea\, 20\, 20700 Urretxu\, Gip
 uzkoa\, Spain)
SUMMARY:'GABONETAKO KONTZERTUA' - Secundino Esnaola Musika Eskolako Ikaslee
 n Emanaldiak
URL:https://www.urretxu.eus/eu/component/rseventspro/ekitaldia/5764-gabonet
 ako-kontzertua-secundino-esnaola-musika-eskolako-ikasleen-emanaldiak/?Item
 id=775
END:VEVENT
END:VCALENDAR
