BEGIN:VCALENDAR
VERSION:2.0
PRODID:-//https://www.urretxu.eus///NONSGML kigkonsult.se iCalcreator 2.10.15//
METHOD:PUBLISH
BEGIN:VEVENT
UID:20260419T163653UTC-7598HAfCWg@https://www.urretxu.eus/
DTSTAMP:20260419T163653Z
DESCRIPTION:Antolatzaileak: Urretxu eta Zumarragako udalak\nHAURRENTZAKO DV
 D EMANALDIAK\n8 igandea\n\n17:00 JOLASTU LOTTEREKIN\nIraupena: 75 minutu\n
 \n15 igandea\n\n17:00 PIPI GALTZALUZ\nIraupena:  80 minutu\n\n29 igandea\n
 \n17:00 HANBURGESA ZAPARRADA\nIraupena: 86 minutu\n\n\nHizkuntza: euskara
 \nZozketa txartela: 1 euro\nLekua:  Labeaga aretoa (Urretxu)\n https://www
 .urretxu.eus/eu/component/rseventspro/ekitaldia/5056-haurrentzako-dvd-eman
 aldiak-euskara/?Itemid=775
DTSTART:20171008T150000Z
DTEND:20171008T163000Z
LOCATION:Labeaga Aretoa (Urretxu) (Labeaga Kalea\, 20\, 20700 Urretxu\, Gip
 uzkoa\, Spain)
SUMMARY:Haurrentzako DVD emanaldiak (euskara)
URL:https://www.urretxu.eus/eu/component/rseventspro/ekitaldia/5056-haurren
 tzako-dvd-emanaldiak-euskara/?Itemid=775
END:VEVENT
END:VCALENDAR
