BEGIN:VCALENDAR
VERSION:2.0
PRODID:-//https://www.urretxu.eus///NONSGML kigkonsult.se iCalcreator 2.10.15//
METHOD:PUBLISH
BEGIN:VEVENT
UID:20260421T134225UTC-9646Vzbevu@https://www.urretxu.eus/
DTSTAMP:20260421T134225Z
DESCRIPTION:Organiza: Butak21 Zine KlubaColaboradores: ayuntamientos de Urr
 etxu y Zumarraga\n\nVERANO 1993Directora:  Carla Simón(2017\, Espainia\, 9
 6´)\n\n\nENTRADA: 4 euros\nBONO: 40 euros (10 películas)\nPara el cine clu
 b y el cine comercial habrá un único bono.\nVenta en taquilla\n  https://w
 ww.urretxu.eus/eu/component/rseventspro/ekitaldia/4835-zine-kluba-verano-1
 993-directora-carla-simon/?Itemid=1213
DTSTART:20170929T201500Z
DTEND:20170929T215500Z
LOCATION:Zelai Arizti aretoa (Zumarraga) (Legazpi Kalea\, 7\, 20700 Zumarra
 ga\, Gipuzkoa\, Spain)
SUMMARY:ZINE KLUBA: 'Verano 1993' - Directora: Carla Simón
URL:https://www.urretxu.eus/eu/component/rseventspro/ekitaldia/4835-zine-kl
 uba-verano-1993-directora-carla-simon/?Itemid=1213
END:VEVENT
END:VCALENDAR
