BEGIN:VCALENDAR
VERSION:2.0
PRODID:-//https://www.urretxu.eus///NONSGML kigkonsult.se iCalcreator 2.10.15//
METHOD:PUBLISH
BEGIN:VEVENT
UID:20260419T164855UTC-5457JwVKPM@https://www.urretxu.eus/
DTSTAMP:20260419T164855Z
DESCRIPTION:Antolatzailea: Urretxuko Udala\n\n'Momenticos'\nEgilea:  Carlos
  Mediavilla Arandigoyen\nErakusketa fotografikoa\n\nUztailaren 5etik 23ra
 \nOrdutegia\nAsteartetik igandera: 17:30 – 20:30\nLekua\nJuan de Lizarazu 
 erakusketa aretoa (Urretxu)\nInaugurazioko bideoa https://www.urretxu.eus/
 eu/component/rseventspro/ekitaldia/4143-erakusketa-fotografikoa-momenticos
 -carlos-mediavilla-arandigoyen-en/?Itemid=775
DTSTART;VALUE=DATE:20170719
LOCATION:Juan de Lizarazu Erakusketa Aretoa (Urretxu) (Labeaga Kalea\, 27\,
  20700 Urretxu\, Gipuzkoa\, Spain)
SUMMARY:Erakusketa fotografikoa: 'Momenticos'. Carlos Mediavilla Arandigoye
 n-en
URL:https://www.urretxu.eus/eu/component/rseventspro/ekitaldia/4143-erakusk
 eta-fotografikoa-momenticos-carlos-mediavilla-arandigoyen-en/?Itemid=775
END:VEVENT
END:VCALENDAR
