BEGIN:VCALENDAR
VERSION:2.0
PRODID:-//https://www.urretxu.eus///NONSGML kigkonsult.se iCalcreator 2.10.15//
METHOD:PUBLISH
BEGIN:VEVENT
UID:20260419T182110UTC-711494vZov@https://www.urretxu.eus/
DTSTAMP:20260419T182110Z
DESCRIPTION:Organiza: Ayuntamiento de Urretxu\n\n'Momenticos'\nAutor: Carlo
 s Mediavilla Arandigoyen\nExposición fotográfica\n\nDel 5 al 23 de julio\n
 Horario\nDe martes a domingo: 17:30 – 20:30\nLugar\nJuan de Lizarazu eraku
 sketa aretoa (Urretxu)\nVideo de la inauguración https://www.urretxu.eus/e
 u/component/rseventspro/ekitaldia/4126-exposicion-fotografica-momenticos-d
 e-carlos-mediavilla-arandigoyen/?Itemid=775
DTSTART;VALUE=DATE:20170719
LOCATION:Juan de Lizarazu Erakusketa Aretoa (Urretxu) (Labeaga Kalea\, 27\,
  20700 Urretxu\, Gipuzkoa\, Spain)
SUMMARY:Exposición fotográfica: 'Momenticos' de Carlos Mediavilla Arandigoy
 en
URL:https://www.urretxu.eus/eu/component/rseventspro/ekitaldia/4126-exposic
 ion-fotografica-momenticos-de-carlos-mediavilla-arandigoyen/?Itemid=775
END:VEVENT
END:VCALENDAR
