BEGIN:VCALENDAR
VERSION:2.0
PRODID:-//https://www.urretxu.eus///NONSGML kigkonsult.se iCalcreator 2.10.15//
METHOD:PUBLISH
BEGIN:VEVENT
UID:20260419T150254UTC-8978APV3dl@https://www.urretxu.eus/
DTSTAMP:20260419T150254Z
DESCRIPTION:Antolatzailea: Urretxuko Udala\nSAN JOAN BEZPERA\n19:00 Iparrag
 irre Balerdi Musika Tailerraren kontzertu – kalejira:\n\n19:00 Jose Mari L
 asa plaza\n19:15 Domingo de Mendiaratz\n19:45 Zubimusu plaza 20:00 Gernika
 ko Arbola plaza\n20:15 Areizaga – Kalebarren plaza\n https://www.urretxu.e
 us/eu/component/rseventspro/ekitaldia/3218-san-joan-bezpera-iparragirre-ba
 lerdi-musika-tailerraren-kontzertu---kalejira/?Itemid=775
DTSTART:20170623T170000Z
DTEND:20170623T183000Z
LOCATION:Jose Mari Lasa\, Plaza (Urretxu) (Jose Mari Lasa plaza\, Urretxu)
SUMMARY:SAN JOAN BEZPERA: Iparragirre Balerdi Musika Tailerraren kontzertu 
 – kalejira
URL:https://www.urretxu.eus/eu/component/rseventspro/ekitaldia/3218-san-joa
 n-bezpera-iparragirre-balerdi-musika-tailerraren-kontzertu---kalejira/?Ite
 mid=775
END:VEVENT
END:VCALENDAR
