BEGIN:VCALENDAR
VERSION:2.0
PRODID:-//https://www.urretxu.eus///NONSGML kigkonsult.se iCalcreator 2.10.15//
METHOD:PUBLISH
BEGIN:VEVENT
UID:20260419T181824UTC-4843vWf93n@https://www.urretxu.eus/
DTSTAMP:20260419T181824Z
DESCRIPTION:Organiza: Goierri KE\nActividades deportivas\nsábado 10\, 15:30
 \nCICLISMO\n'Vuelta al Goierri' Prueba Ciclista Sub 23 Lehendakari Txapelk
 eta\n\nCategoría Aficionados\nSALIDA: Jose Mari Lasa plaza (Urretxu)\nMETA
 : Labeaga kalea (Urretxu)\n https://www.urretxu.eus/eu/component/rseventsp
 ro/ekitaldia/3087-vuelta-al-goierri-prueba-ciclista-sub-23-lehendakari-txa
 pelketa/?Itemid=775
DTSTART:20180310T143000Z
DTEND:20180310T163000Z
LOCATION:Jose Mari Lasa\, Plaza (Urretxu) (Jose Mari Lasa plaza\, Urretxu)
SUMMARY:“Vuelta al Goierri” Prueba Ciclista Sub 23 Lehendakari Txapelketa
URL:https://www.urretxu.eus/eu/component/rseventspro/ekitaldia/3087-vuelta-
 al-goierri-prueba-ciclista-sub-23-lehendakari-txapelketa/?Itemid=775
END:VEVENT
END:VCALENDAR
