BEGIN:VCALENDAR
VERSION:2.0
PRODID:-//https://www.urretxu.eus///NONSGML kigkonsult.se iCalcreator 2.10.15//
METHOD:PUBLISH
BEGIN:VEVENT
UID:20260419T181739UTC-84539IvVUH@https://www.urretxu.eus/
DTSTAMP:20260419T181739Z
DESCRIPTION:Organizador: Goierri Garaia Atletismo Taldea\nActividades depor
 tivas\nDomingo\, 4 - 11:00\nGOIERRI GARAIKO XXI. ESKOLARTEKO KROSA\nCROSS
 \n\nLugar:  Argixao estadioa (Zumarraga)\n https://www.urretxu.eus/eu/comp
 onent/rseventspro/ekitaldia/3085-goierri-garaiko-xxi-eskolarteko-krosa-cro
 ss/?Itemid=775
DTSTART:20180304T100000Z
DTEND:20180304T120000Z
LOCATION:Argixao estadioa (Zumarraga) (Jose M. Barandiaran Etxetaldea\, 5\,
  20700 Zumarraga\, Gipuzkoa\, Spain)
SUMMARY:Goierri Garaiko XXI. Eskolarteko Krosa: Cross
URL:https://www.urretxu.eus/eu/component/rseventspro/ekitaldia/3085-goierri
 -garaiko-xxi-eskolarteko-krosa-cross/?Itemid=775
END:VEVENT
END:VCALENDAR
