BEGIN:VCALENDAR
VERSION:2.0
PRODID:-//https://www.urretxu.eus///NONSGML kigkonsult.se iCalcreator 2.10.15//
METHOD:PUBLISH
BEGIN:VEVENT
UID:20260424T191704UTC-2048ItJbDA@https://www.urretxu.eus/
DTSTAMP:20260424T191704Z
DESCRIPTION: \nEgurrean egindako arte lanak\n09:30-13:30/15:00-21:00 astele
 henetik ostiralera10:00-13:30 larunbatetan\n \nAntolatzailea: Txiribi elka
 rtea https://www.urretxu.eus/eu/component/rseventspro/ekitaldia/20247-txir
 ibiri-taila-elkartearen-erakusketa/?Itemid=1213
DTSTART:20260516T080000Z
DTEND:20260516T113000Z
LOCATION:Zelai Arizti aretoa (Zumarraga) (Legazpi Kalea\, 7\, 20700 Zumarra
 ga\, Gipuzkoa\, Spain)
SUMMARY:TXIRIBIRI TAILA ELKARTEAREN ERAKUSKETA
URL:https://www.urretxu.eus/eu/component/rseventspro/ekitaldia/20247-txirib
 iri-taila-elkartearen-erakusketa/?Itemid=1213
END:VEVENT
END:VCALENDAR
