BEGIN:VCALENDAR
VERSION:2.0
PRODID:-//https://www.urretxu.eus///NONSGML kigkonsult.se iCalcreator 2.10.15//
METHOD:PUBLISH
BEGIN:VEVENT
UID:20260424T192155UTC-8487KaV0FS@https://www.urretxu.eus/
DTSTAMP:20260424T192155Z
DESCRIPTION:“UTZI ZURE BEGIAK”\nArte-proiektu honek bi bidaia pertsonal bil
 tzen ditu\, formari dagokionez desberdinak eta semantikari dagokionez berd
 inak: argazkigintza eta pintura. \nInaugurazioa: maiatzak 15\, 18:00\nMaia
 tzaren 31ra arte\nAntolatzailea: Urretxuko Udala https://www.urretxu.eus/e
 u/component/rseventspro/ekitaldia/20225-june-mendez-eta-jm-mendezen-argazk
 i-eta-akuarela-erakusketa/?Itemid=1213
DTSTART:20260523T153000Z
DTEND:20260608T183000Z
LOCATION:Juan de Lizarazu Erakusketa Aretoa (Urretxu) (Labeaga Kalea\, 27\,
  20700 Urretxu\, Gipuzkoa\, Spain)
SUMMARY:JUNE MÉNDEZ eta JM MÉNDEZen ARGAZKI ETA AKUARELA ERAKUSKETA 
URL:https://www.urretxu.eus/eu/component/rseventspro/ekitaldia/20225-june-m
 endez-eta-jm-mendezen-argazki-eta-akuarela-erakusketa/?Itemid=1213
END:VEVENT
END:VCALENDAR
