BEGIN:VCALENDAR
VERSION:2.0
PRODID:-//https://www.urretxu.eus///NONSGML kigkonsult.se iCalcreator 2.10.15//
METHOD:PUBLISH
BEGIN:VEVENT
UID:20260419T163318UTC-2917WJv4ka@https://www.urretxu.eus/
DTSTAMP:20260419T163318Z
DESCRIPTION:ARGAZKI ERAKUSKETA: 'BEGIRADA IRAGANERA'\, ARGAZKIA ELKARTEA\n
 \nIraganari keinu bat\, oroimenean ditugun argazki haien omenez.\n\n\n\nIn
 augurazioa: apirilak 17\, 18:00\nMaiatzaren 3ra arte\nORDUA: 17:30 – 20:30
  asteartetik igandera\n\n\nANTOLATZAILEA: Urretxuko Udala https://www.urre
 txu.eus/eu/component/rseventspro/ekitaldia/20207-argazki-erakusketa-begira
 da-iraganera/?Itemid=775
DTSTART:20260417T160000Z
DTEND:20260503T183000Z
LOCATION:Juan de Lizarazu Erakusketa Aretoa (Urretxu) (Labeaga Kalea\, 27\,
  20700 Urretxu\, Gipuzkoa\, Spain)
SUMMARY:ARGAZKI ERAKUSKETA: 'BEGIRADA IRAGANERA'
URL:https://www.urretxu.eus/eu/component/rseventspro/ekitaldia/20207-argazk
 i-erakusketa-begirada-iraganera/?Itemid=775
END:VEVENT
END:VCALENDAR
