BEGIN:VCALENDAR
VERSION:2.0
PRODID:-//https://www.urretxu.eus///NONSGML kigkonsult.se iCalcreator 2.10.15//
METHOD:PUBLISH
BEGIN:VEVENT
UID:20260419T194443UTC-3537OccR6R@https://www.urretxu.eus/
DTSTAMP:20260419T194443Z
DESCRIPTION:Asteazkenak (Egunak: 15\, 22\, 29)\, 18:30-20:30\n\nKuota: 17 e
 uro hileko\nIzen-ematea: kultur etxean\, 943 038088\n\nANTOLATZAILEA: Urre
 txuko Udala https://www.urretxu.eus/eu/component/rseventspro/ekitaldia/202
 06-pintura-eta-marrazketa-aitor-etxeberriarekin/?Itemid=775
DTSTART:20260429T163000Z
DTEND:20260429T183000Z
LOCATION:Aizpurunea Kultur Etxea (Urretxu) (Jauregi Kalea\, 19\, 20700 Urre
 txu\, Gipuzkoa\, Spain)
SUMMARY:PINTURA ETA MARRAZKETA\, Aitor Etxeberriarekin
URL:https://www.urretxu.eus/eu/component/rseventspro/ekitaldia/20206-pintur
 a-eta-marrazketa-aitor-etxeberriarekin/?Itemid=775
END:VEVENT
END:VCALENDAR
