BEGIN:VCALENDAR
VERSION:2.0
PRODID:-//https://www.urretxu.eus///NONSGML kigkonsult.se iCalcreator 2.10.15//
METHOD:PUBLISH
BEGIN:VEVENT
UID:20260419T165053UTC-9986eWvoWG@https://www.urretxu.eus/
DTSTAMP:20260419T165053Z
DESCRIPTION:Liburua: 'IZOTZ URA'\, Lide Hernando Muñoz\, Gorka Azkarateren 
 eskutik\nANTOLATZAILEA: Urretxu eta Zumarragako udalak eta Udal Euskaltegi
 a https://www.urretxu.eus/eu/component/rseventspro/ekitaldia/20148-irakurl
 e-taldea-gorka-azkarateren-eskutik/?Itemid=775
DTSTART:20260224T180000Z
DTEND:20260224T190000Z
LOCATION:Zelai Arizti kultur etxea (Zumarraga) (Legazpi Kalea\, 7\, 20700 Z
 umarraga\, Gipuzkoa\, Spain)
SUMMARY:IRAKURLE TALDEA\, Gorka Azkarateren eskutik
URL:https://www.urretxu.eus/eu/component/rseventspro/ekitaldia/20148-irakur
 le-taldea-gorka-azkarateren-eskutik/?Itemid=775
END:VEVENT
END:VCALENDAR
