BEGIN:VCALENDAR
VERSION:2.0
PRODID:-//https://www.urretxu.eus///NONSGML kigkonsult.se iCalcreator 2.10.15//
METHOD:PUBLISH
BEGIN:VEVENT
UID:20260419T182147UTC-5143d0ovKU@https://www.urretxu.eus/
DTSTAMP:20260419T182147Z
DESCRIPTION:\nLiburua: “MEMORIAS DE AFRICA”\, Isak Dinesen\nMonica Leivaren
  eskutik\n\nANTOLATZAILEA: Urretxuko Udala https://www.urretxu.eus/eu/comp
 onent/rseventspro/ekitaldia/20105-munduko-emakumeen-literaturaren-kluba-mo
 nica-leivaren-eskutik/?Itemid=775
DTSTART:20260226T173000Z
DTEND:20260226T183000Z
LOCATION:Aizpurunea Kultur Etxea (Urretxu) (Jauregi Kalea\, 19\, 20700 Urre
 txu\, Gipuzkoa\, Spain)
SUMMARY:MUNDUKO EMAKUMEEN LITERATURAREN KLUBA - Monica Leivaren eskutik
URL:https://www.urretxu.eus/eu/component/rseventspro/ekitaldia/20105-munduk
 o-emakumeen-literaturaren-kluba-monica-leivaren-eskutik/?Itemid=775
END:VEVENT
END:VCALENDAR
