BEGIN:VCALENDAR
VERSION:2.0
PRODID:-//https://www.urretxu.eus///NONSGML kigkonsult.se iCalcreator 2.10.15//
METHOD:PUBLISH
BEGIN:VEVENT
UID:20260419T200239UTC-9917UtMAv7@https://www.urretxu.eus/
DTSTAMP:20260419T200239Z
DESCRIPTION:Kuota: 10\,30€Programa honetako 3 saiotan apuntatuz gero\, %25e
 ko deskontua\n\nHurrengo saioak: martxoak 4 Giza irudia eta martxoak 13 Ak
 uarela “Mendo”rekin. Izen-ematea zabalik kultur etxean 943 038088.\nIzen e
 matea: abenduaren 5ea arte kultur etxean\n \nANTOLATZAILEA: Urretxuko Udal
 a\n\n \n\n\n  https://www.urretxu.eus/eu/component/rseventspro/ekitaldia/2
 0098-giza-irudia-ikastaroa-josu-marotorekin/?Itemid=775
DTSTART:20260204T173000Z
DTEND:20260204T200000Z
LOCATION:Labeaga Aretoa (Urretxu) (Labeaga Kalea\, 20\, 20700 Urretxu\, Gip
 uzkoa\, Spain)
SUMMARY:GIZA IRUDIA IKASTAROA\, Josu Marotorekin
URL:https://www.urretxu.eus/eu/component/rseventspro/ekitaldia/20098-giza-i
 rudia-ikastaroa-josu-marotorekin/?Itemid=775
END:VEVENT
END:VCALENDAR
