BEGIN:VCALENDAR
VERSION:2.0
PRODID:-//https://www.urretxu.eus///NONSGML kigkonsult.se iCalcreator 2.10.15//
METHOD:PUBLISH
BEGIN:VEVENT
UID:20260419T145437UTC-4060B4FApB@https://www.urretxu.eus/
DTSTAMP:20260419T145437Z
DESCRIPTION:2026 ekainerarte\, astelehenetan\nKuota: 20 € / hileko\nIzen-em
 atea: urriaren 7ra arte Urretxuko kultur etxean 943 038088\nAntolatzailea:
  Lurra Dantza Taldea https://www.urretxu.eus/eu/component/rseventspro/ekit
 aldia/19918-euskal-dantzak-ikastaroa/?Itemid=775
DTSTART:20251006T170000Z
DTEND:20251006T180000Z
LOCATION:Lizeoko soinketa gela (Urretxu) (Etxaburu\, 20700 Urretxu\, Guipúz
 coa\, Spain)
SUMMARY:EUSKAL DANTZAK IKASTAROA
URL:https://www.urretxu.eus/eu/component/rseventspro/ekitaldia/19918-euskal
 -dantzak-ikastaroa/?Itemid=775
END:VEVENT
END:VCALENDAR
