BEGIN:VCALENDAR
VERSION:2.0
PRODID:-//https://www.urretxu.eus///NONSGML kigkonsult.se iCalcreator 2.10.15//
METHOD:PUBLISH
BEGIN:VEVENT
UID:20260421T134022UTC-4594dtxFev@https://www.urretxu.eus/
DTSTAMP:20260421T134022Z
DESCRIPTION:• BOBBI RELAC (Katapulta tour Gipuzkoa)• SUGRAMAS• MALATESTTA• 
 JOHN DEALER & THE COCONUTS\nSarrerak: 20 € entradium.com / Motz taberna \n
 Antolatzailea: ZarraparraZ elkartea\n  https://www.urretxu.eus/eu/componen
 t/rseventspro/ekitaldia/19905-ix-zz-rock-jaialdia/?Itemid=775
DTSTART:20251004T163000Z
DTEND:20251004T200000Z
LOCATION:Zelai Aristi parkea (Zumarraga) (Zelai-Arizti Parkea\, 1\, 20700 Z
 umarraga\, Gipuzkoa\, Urretxu\, Spain)
SUMMARY:IX. ZZ ROCK JAIALDIA
URL:https://www.urretxu.eus/eu/component/rseventspro/ekitaldia/19905-ix-zz-
 rock-jaialdia/?Itemid=775
END:VEVENT
END:VCALENDAR
